BEGIN:VCALENDAR
VERSION:2.0
PRODID:-//ChamberMaster//Event Calendar 2.0//EN
METHOD:PUBLISH
X-PUBLISHED-TTL:P3D
REFRESH-INTERVAL:P3D
CALSCALE:GREGORIAN
BEGIN:VEVENT
DTSTART:20221105T180000Z
DTEND:20221105T200000Z
X-MICROSOFT-CDO-ALLDAYEVENT:FALSE
SUMMARY:Hickory Tree Chorus Performance
DESCRIPTION:HICKORY TREE CHORUS (A chapter of Sweet Adelines International ) presents... "On The Road Again!"
X-ALT-DESC;FMTTYPE=text/html:HICKORY TREE CHORUS (A chapter of Sweet Adelines International ) presents... &quot\;On The Road Again!&quot\;
LOCATION:Christ Church 561 Springfield Ave.\, Summit\, NJ
UID:e.870.17657
SEQUENCE:3
DTSTAMP:20260420T184343Z
URL:http://suburbanchambers.chambermaster.com/events/details/hickory-tree-chorus-performance-17657
END:VEVENT

END:VCALENDAR
