BEGIN:VCALENDAR
VERSION:2.0
PRODID:-//ChamberMaster//Event Calendar 2.0//EN
METHOD:PUBLISH
X-PUBLISHED-TTL:P3D
REFRESH-INTERVAL:P3D
CALSCALE:GREGORIAN
BEGIN:VEVENT
DTSTART:20230307T233000Z
DTEND:20230308T000000Z
X-MICROSOFT-CDO-ALLDAYEVENT:FALSE
SUMMARY:Full Moon Hike
DESCRIPTION:Take a break from your busy week with a relaxing stroll through the woodland trails under the moonlight. You'll have the unique opportunity to take in the beauty and peace of the Arboretum at night as we learn about this month's full moon and other fun nighttime facts. This program is for adults only.
X-ALT-DESC;FMTTYPE=text/html:Take a break from your busy week with a relaxing stroll through the woodland trails under the moonlight. You&rsquo\;ll have the unique opportunity to take in the beauty and peace of the Arboretum at night as we learn about this month&rsquo\;s full moon and other fun nighttime facts. This program is for adults only.
LOCATION:Reeves-Reed Arboretum 165 Hobart Avenue\, Summit
UID:e.870.18325
SEQUENCE:3
DTSTAMP:20260425T202313Z
URL:http://suburbanchambers.chambermaster.com/events/details/full-moon-hike-18325
END:VEVENT

END:VCALENDAR
