BEGIN:VCALENDAR
VERSION:2.0
PRODID:-//ChamberMaster//Event Calendar 2.0//EN
METHOD:PUBLISH
X-PUBLISHED-TTL:P3D
REFRESH-INTERVAL:P3D
CALSCALE:GREGORIAN
BEGIN:VEVENT
DTSTART:20220215T160000Z
DTEND:20220215T170000Z
X-MICROSOFT-CDO-ALLDAYEVENT:FALSE
SUMMARY:Export Assistance & Business Development
DESCRIPTION:Come listen and learn about State and Federal programs to help your business grow. Export promotion and business development programs are available to assist you! This one-hour free webinar will provide an overview of the some of the best resources available.
X-ALT-DESC;FMTTYPE=text/html:Come listen and learn about State and Federal programs to help your business grow. Export promotion and business development programs are available to assist you! This one-hour free webinar will provide an overview of the some of the best resources available.
LOCATION:Your Computer
UID:e.870.17512
SEQUENCE:3
DTSTAMP:20260423T015440Z
URL:http://suburbanchambers.chambermaster.com/events/details/export-assistance-business-development-17512
END:VEVENT

END:VCALENDAR
